BEGIN:VCALENDAR
PRODID:-//eluceo/ical//2.0/EN
VERSION:2.0
CALSCALE:GREGORIAN
BEGIN:VEVENT
UID:7677a7d86ddf8cfeda56346f66149ede
DTSTAMP:20260421T234542Z
SUMMARY:II Curso de Genética para Nefrólogos
DESCRIPTION:Es necesaria inscripción gratuita\n\nModalidad mixta\, presenc
 ial y online
DTSTART;TZID=Europe/Madrid:20260521T160000
DTEND;TZID=Europe/Madrid:20260521T192000
LOCATION:Aula Profesor Albert Torras - escalera 12 planta 5 - Hospital Clí
 nic de Barcelona. c/Villarroel\, 170 - 08036 Barcelona
END:VEVENT
BEGIN:VTIMEZONE
TZID:Europe/Madrid
BEGIN:STANDARD
DTSTART:20260101T014542
TZNAME:CET
TZOFFSETTO:+0100
TZOFFSETFROM:+0100
END:STANDARD
BEGIN:DAYLIGHT
DTSTART:20260329T030000
TZNAME:CEST
TZOFFSETTO:+0200
TZOFFSETFROM:+0100
END:DAYLIGHT
BEGIN:STANDARD
DTSTART:20261025T020000
TZNAME:CET
TZOFFSETTO:+0100
TZOFFSETFROM:+0200
END:STANDARD
END:VTIMEZONE
END:VCALENDAR
