BEGIN:VCALENDAR
PRODID:-//eluceo/ical//2.0/EN
VERSION:2.0
CALSCALE:GREGORIAN
BEGIN:VEVENT
UID:629ecc6793e250bda852351776212555
DTSTAMP:20260421T144352Z
SUMMARY:II Curso de Genética para Nefrólogos
DESCRIPTION:Es necesaria inscripción gratuita\n\nModalidad mixta\, presenc
 ial y online
DTSTART;TZID=Europe/Madrid:20260421T160000
DTEND;TZID=Europe/Madrid:20260421T192000
LOCATION:Aula Profesor Albert Torras - escalera 12 planta 5 - Hospital Clí
 nic de Barcelona. c/Villarroel\, 170 - 08036 Barcelona
END:VEVENT
BEGIN:VTIMEZONE
TZID:Europe/Madrid
BEGIN:STANDARD
DTSTART:20260101T164352
TZNAME:CET
TZOFFSETTO:+0100
TZOFFSETFROM:+0100
END:STANDARD
BEGIN:DAYLIGHT
DTSTART:20260329T030000
TZNAME:CEST
TZOFFSETTO:+0200
TZOFFSETFROM:+0100
END:DAYLIGHT
BEGIN:STANDARD
DTSTART:20261025T020000
TZNAME:CET
TZOFFSETTO:+0100
TZOFFSETFROM:+0200
END:STANDARD
END:VTIMEZONE
END:VCALENDAR
