BEGIN:VCALENDAR
PRODID:-//eluceo/ical//2.0/EN
VERSION:2.0
CALSCALE:GREGORIAN
BEGIN:VEVENT
UID:a302b84fc4a9a9d30373898968a35350
DTSTAMP:20260425T204129Z
SUMMARY:La enfermedad de Parkinson: ¡detectémosla a tiempo! El papel del 
 olfato en la detección precoz
DESCRIPTION:Charla sobre la pérdida de olfato como indicador precoz de la 
 enfermedad de Parkinson\, con presentación de los estudios en curso y tur
 no abierto de preguntas. Posibilidad de invitar a algún participante a co
 mpartir su experiencia. \n\nPúblico: Adultos en general \n\nTipo de act
 ividad: Las voces de la salud\n\nHorario: 13:30 
DTSTART;TZID=Europe/Madrid:20260509T133000
DTEND;TZID=Europe/Madrid:20260509T140000
LOCATION:Casanova - Provença
END:VEVENT
BEGIN:VTIMEZONE
TZID:Europe/Madrid
BEGIN:STANDARD
DTSTART:20260101T224129
TZNAME:CET
TZOFFSETTO:+0100
TZOFFSETFROM:+0100
END:STANDARD
BEGIN:DAYLIGHT
DTSTART:20260329T030000
TZNAME:CEST
TZOFFSETTO:+0200
TZOFFSETFROM:+0100
END:DAYLIGHT
BEGIN:STANDARD
DTSTART:20261025T020000
TZNAME:CET
TZOFFSETTO:+0100
TZOFFSETFROM:+0200
END:STANDARD
END:VTIMEZONE
END:VCALENDAR
