BEGIN:VCALENDAR
PRODID:-//eluceo/ical//2.0/EN
VERSION:2.0
CALSCALE:GREGORIAN
BEGIN:VEVENT
UID:f6c0861bb9b7c27145b7115d133e85f0
DTSTAMP:20260425T220103Z
SUMMARY:La enfermedad de Parkinson: El papel del olfato en la detección pr
 ecoz
DESCRIPTION:¡Olemos el Parkinson! Descubre cómo la pérdida del olfato pu
 ede ser un signo precoz. Prueba aromas y tests de olfato\, conoce la inves
 tigación HeBA y PPMI ST\, y aprende cómo participar en estudios para pre
 venir y detectar la enfermedad. \n\nPúblico: Adultos en general \n\nTi
 po de actividad: Carpas (en la calzada) \n\nHorario: 9:30-14:30 
DTSTART;TZID=Europe/Madrid:20260509T093000
DTEND;TZID=Europe/Madrid:20260509T143000
LOCATION:Casanova - Provença
END:VEVENT
BEGIN:VTIMEZONE
TZID:Europe/Madrid
BEGIN:STANDARD
DTSTART:20260101T000103
TZNAME:CET
TZOFFSETTO:+0100
TZOFFSETFROM:+0100
END:STANDARD
BEGIN:DAYLIGHT
DTSTART:20260329T030000
TZNAME:CEST
TZOFFSETTO:+0200
TZOFFSETFROM:+0100
END:DAYLIGHT
BEGIN:STANDARD
DTSTART:20261025T020000
TZNAME:CET
TZOFFSETTO:+0100
TZOFFSETFROM:+0200
END:STANDARD
END:VTIMEZONE
END:VCALENDAR
