BEGIN:VCALENDAR
PRODID:-//eluceo/ical//2.0/EN
VERSION:2.0
CALSCALE:GREGORIAN
BEGIN:VEVENT
UID:e3e6376d37c5dcba8f8874ca10018f18
DTSTAMP:20260425T204016Z
SUMMARY:La sepsis: reconocerla a tiempo puede salvar vidas
DESCRIPTION:Una infección puede convertirse en una urgencia vital: la seps
 is. Explicaremos de forma sencilla qué es\, sus consecuencias\, cómo det
 ectarla y cuándo acudir al médico. Actuar a tiempo puede ser decisivo. 
 \n\nPúblico: Adultos en general \n\nTipo de actividad: Las voces de la s
 alud \n\nHorario: 11:30 
DTSTART;TZID=Europe/Madrid:20260509T113000
DTEND;TZID=Europe/Madrid:20260509T120000
LOCATION:Casanova - Provença
END:VEVENT
BEGIN:VTIMEZONE
TZID:Europe/Madrid
BEGIN:STANDARD
DTSTART:20260101T224016
TZNAME:CET
TZOFFSETTO:+0100
TZOFFSETFROM:+0100
END:STANDARD
BEGIN:DAYLIGHT
DTSTART:20260329T030000
TZNAME:CEST
TZOFFSETTO:+0200
TZOFFSETFROM:+0100
END:DAYLIGHT
BEGIN:STANDARD
DTSTART:20261025T020000
TZNAME:CET
TZOFFSETTO:+0100
TZOFFSETFROM:+0200
END:STANDARD
END:VTIMEZONE
END:VCALENDAR
