BEGIN:VCALENDAR
PRODID:-//eluceo/ical//2.0/EN
VERSION:2.0
CALSCALE:GREGORIAN
BEGIN:VEVENT
UID:c7dcafc418452fb93e84fcd3f98a17e3
DTSTAMP:20260425T202923Z
SUMMARY:La terapia con perros
DESCRIPTION:Estudio del Clínic-IDIBAPS muestra que la terapia asistida con
  perros mejora la asistencia\, reduce las crisis emocionales y facilita la
  regulación emocional en niños del Hospital de Día de salud mental. \n
 \nPúblico: Para toda la familia \n\nTipo de actividad: Carpas (en la 
 calzada) \n\nHorario: 9:30-14:31 
DTSTART;TZID=Europe/Madrid:20260509T093000
DTEND;TZID=Europe/Madrid:20260509T143000
LOCATION:Casanova - Provença
END:VEVENT
BEGIN:VTIMEZONE
TZID:Europe/Madrid
BEGIN:STANDARD
DTSTART:20260101T222923
TZNAME:CET
TZOFFSETTO:+0100
TZOFFSETFROM:+0100
END:STANDARD
BEGIN:DAYLIGHT
DTSTART:20260329T030000
TZNAME:CEST
TZOFFSETTO:+0200
TZOFFSETFROM:+0100
END:DAYLIGHT
BEGIN:STANDARD
DTSTART:20261025T020000
TZNAME:CET
TZOFFSETTO:+0100
TZOFFSETFROM:+0200
END:STANDARD
END:VTIMEZONE
END:VCALENDAR
