BEGIN:VCALENDAR
PRODID:-//eluceo/ical//2.0/EN
VERSION:2.0
CALSCALE:GREGORIAN
BEGIN:VEVENT
UID:64f5fcae131569834ec146a49518c4c9
DTSTAMP:20260424T130233Z
SUMMARY:Los Webinars de los jueves. Hospital Clínic de Barcelona SARS-CoV-
 2
DESCRIPTION:Nuevo webinar de actualización sobre el conocimiento en el cam
 po de la COVID-19.\n\nEl programa del webinar\, moderado por el Dr. Josep 
 M. Miró\, es el siguiente:\n\n\nCómo convertir un hospital universitario
  en un hospital COVID-19: Recomendaciones para la escalada y la vuelta a l
 a normalidad. Dr. Josep M. Nicolás.\nFisiopatología y Manifestaciones c
 línicas de la COVID-19. Implicaciones clínicas y pronóstico. Dr. Àlex
  Soriano.\n\n\nMás información en este enlace.
DTSTART;VALUE=DATE:20200514
LOCATION:
END:VEVENT
BEGIN:VTIMEZONE
TZID:Europe/Madrid
BEGIN:STANDARD
DTSTART:20260101T150233
TZNAME:CET
TZOFFSETTO:+0100
TZOFFSETFROM:+0100
END:STANDARD
BEGIN:DAYLIGHT
DTSTART:20260329T030000
TZNAME:CEST
TZOFFSETTO:+0200
TZOFFSETFROM:+0100
END:DAYLIGHT
BEGIN:STANDARD
DTSTART:20261025T020000
TZNAME:CET
TZOFFSETTO:+0100
TZOFFSETFROM:+0200
END:STANDARD
END:VTIMEZONE
END:VCALENDAR
