BEGIN:VCALENDAR
PRODID:-//eluceo/ical//2.0/EN
VERSION:2.0
CALSCALE:GREGORIAN
BEGIN:VEVENT
UID:c9b0dc74b6ca6c1bbd608ee18e58c0c9
DTSTAMP:20260424T130412Z
SUMMARY:Los Webinars de los jueves. Hospital Clínic de Barcelona SARS-CoV-
 2
DESCRIPTION:Nuevo webinar de actualización sobre el conocimiento en el cam
 po de la COVID-19.\n\nEl programa del webinar\, moderado por el Dr. Josep 
 M. Miró\, es el siguiente:\n\n\nSARS-CoV-2 y pulmón: Efectos a corto y l
 argo plazo. Dr. Jacobo Sellarés.\nMedicamentos antivirales. ¿Sirven para
  la profilaxis y tratamiento de la COVID-19? Dr. José Muñoz.\n\n\nMás i
 nformación en este enlace.
DTSTART;VALUE=DATE:20200521
LOCATION:
END:VEVENT
BEGIN:VTIMEZONE
TZID:Europe/Madrid
BEGIN:STANDARD
DTSTART:20260101T150412
TZNAME:CET
TZOFFSETTO:+0100
TZOFFSETFROM:+0100
END:STANDARD
BEGIN:DAYLIGHT
DTSTART:20260329T030000
TZNAME:CEST
TZOFFSETTO:+0200
TZOFFSETFROM:+0100
END:DAYLIGHT
BEGIN:STANDARD
DTSTART:20261025T020000
TZNAME:CET
TZOFFSETTO:+0100
TZOFFSETFROM:+0200
END:STANDARD
END:VTIMEZONE
END:VCALENDAR
