BEGIN:VCALENDAR
PRODID:-//eluceo/ical//2.0/EN
VERSION:2.0
CALSCALE:GREGORIAN
BEGIN:VEVENT
UID:e8a41d0f9a496f4e6c82f6d2529767e2
DTSTAMP:20260421T042320Z
SUMMARY:Los Webinars de los jueves. Hospital Clínic de Barcelona SARS-CoV-
 2
DESCRIPTION:Nuevo webinar de actualización sobre el conocimiento en el cam
 po de la COVID-19.\n\nEl programa del webinar\, moderado por el Dr. Josep 
 M. Miró\, es el siguiente:\n\n\n\nNuevos resultados del tratamiento de la
  COVID-19 con hidroxicloroquina y remdesivir. Dr. José Muñoz.\n\n\nAvanc
 es virológicos y diagnósticos de la infección por SARS-CoV-2. Dr. Jordi
  Vila\n\n\n\nMás información en este enlace.
DTSTART;VALUE=DATE:20200618
LOCATION:
END:VEVENT
BEGIN:VTIMEZONE
TZID:Europe/Madrid
BEGIN:STANDARD
DTSTART:20260101T062320
TZNAME:CET
TZOFFSETTO:+0100
TZOFFSETFROM:+0100
END:STANDARD
BEGIN:DAYLIGHT
DTSTART:20260329T030000
TZNAME:CEST
TZOFFSETTO:+0200
TZOFFSETFROM:+0100
END:DAYLIGHT
BEGIN:STANDARD
DTSTART:20261025T020000
TZNAME:CET
TZOFFSETTO:+0100
TZOFFSETFROM:+0200
END:STANDARD
END:VTIMEZONE
END:VCALENDAR
