BEGIN:VCALENDAR
PRODID:-//eluceo/ical//2.0/EN
VERSION:2.0
CALSCALE:GREGORIAN
BEGIN:VEVENT
UID:1e747e5b356807b96d2b7a9bedafbf10
DTSTAMP:20260424T130412Z
SUMMARY:Los Webinars de los jueves. Hospital Clínic de Barcelona SARS-CoV-
 2
DESCRIPTION:Los días 7\, 14\, 21 y 18 de mayo\, a las 18h\, tendrán lugar
  webinars de actualización sobre el conocimiento en el campo de la COVID-
 19.\n\nEl programa del primer webinar\, el próximo jueves 7 de mayo es:\n
 \n\nUna pandemia de valores. Dr. Antoni Castells.\nOrganización de los we
 binars SARS-CoV-2. Dr. Josep M. Miró.\nActualización epidemiológica y p
 revención de la transmission. Dr. Antoni Trilla.\nEl virus SARS-CoV-2 y 
 el diagnóstico microbiológico. Dr. Jordi Vila.\n\n\nMás información en
  este enlace.
DTSTART;VALUE=DATE:20200507
LOCATION:
END:VEVENT
BEGIN:VTIMEZONE
TZID:Europe/Madrid
BEGIN:STANDARD
DTSTART:20260101T150412
TZNAME:CET
TZOFFSETTO:+0100
TZOFFSETFROM:+0100
END:STANDARD
BEGIN:DAYLIGHT
DTSTART:20260329T030000
TZNAME:CEST
TZOFFSETTO:+0200
TZOFFSETFROM:+0100
END:DAYLIGHT
BEGIN:STANDARD
DTSTART:20261025T020000
TZNAME:CET
TZOFFSETTO:+0100
TZOFFSETFROM:+0200
END:STANDARD
END:VTIMEZONE
END:VCALENDAR
