BEGIN:VCALENDAR
PRODID:-//eluceo/ical//2.0/EN
VERSION:2.0
CALSCALE:GREGORIAN
BEGIN:VEVENT
UID:e61160d32ef85abf8942ca7fb821e655
DTSTAMP:20260424T235245Z
SUMMARY:Los Webinars de los jueves SARS-CoV-2: antivirales y tratamiento an
 tiinflamatorio
DESCRIPTION:Nuevo webinar de actualización sobre el conocimiento en el cam
 po de la COVID-19.\n\nEl programa del webinar\, moderado por el Dr. Josep 
 M. Miró\, es el siguiente:\n\n\n\nRemdesivir y nuevos antivirales. Dr. J
 osé Muñoz\n\n\nSituación actual del tratamiento antiinflamatorio: dexam
 etasona\, tocilizumab y baricitinb. Dra Carol García-Vidal\n\n\n\nMás i
 nformación en este enlace.
DTSTART;VALUE=DATE:20201119
LOCATION:
END:VEVENT
BEGIN:VTIMEZONE
TZID:Europe/Madrid
BEGIN:STANDARD
DTSTART:20260101T015245
TZNAME:CET
TZOFFSETTO:+0100
TZOFFSETFROM:+0100
END:STANDARD
BEGIN:DAYLIGHT
DTSTART:20260329T030000
TZNAME:CEST
TZOFFSETTO:+0200
TZOFFSETFROM:+0100
END:DAYLIGHT
BEGIN:STANDARD
DTSTART:20261025T020000
TZNAME:CET
TZOFFSETTO:+0100
TZOFFSETFROM:+0200
END:STANDARD
END:VTIMEZONE
END:VCALENDAR
