BEGIN:VCALENDAR
PRODID:-//eluceo/ical//2.0/EN
VERSION:2.0
CALSCALE:GREGORIAN
BEGIN:VEVENT
UID:c13dd0bda152d8b44cc995aa93cd4089
DTSTAMP:20260424T234926Z
SUMMARY:Los Webinars de los jueves SARS-CoV-2: secuelas post COVID-19
DESCRIPTION:Nuevo webinar de actualización sobre el conocimiento en el cam
 po de la COVID-19.\n\nEl programa del webinar\, moderado por el Dr. Josep 
 M. Miró\, es el siguiente:\n\n\n\nPost COVID-19: secuelas pulmonares. Dr.
  Jacobo Sellarés\n\n\nPost COVID-19: secuelas extrapulmonares. Dra Gema
  M. Lledó\n\n\n\nMás información en este enlace.
DTSTART;VALUE=DATE:20201126
LOCATION:
END:VEVENT
BEGIN:VTIMEZONE
TZID:Europe/Madrid
BEGIN:STANDARD
DTSTART:20260101T014926
TZNAME:CET
TZOFFSETTO:+0100
TZOFFSETFROM:+0100
END:STANDARD
BEGIN:DAYLIGHT
DTSTART:20260329T030000
TZNAME:CEST
TZOFFSETTO:+0200
TZOFFSETFROM:+0100
END:DAYLIGHT
BEGIN:STANDARD
DTSTART:20261025T020000
TZNAME:CET
TZOFFSETTO:+0100
TZOFFSETFROM:+0200
END:STANDARD
END:VTIMEZONE
END:VCALENDAR
