BEGIN:VCALENDAR
PRODID:-//eluceo/ical//2.0/EN
VERSION:2.0
CALSCALE:GREGORIAN
BEGIN:VEVENT
UID:456f26078775352c874fbba67952089c
DTSTAMP:20260425T204021Z
SUMMARY:¿Magia o alergia? Descifrando los hechizos de la anafilaxia
DESCRIPTION:Aprende a reconocer la anafilaxia\, identifica alérgenos\, pra
 ctica con el autoinyector de adrenalina\, detecta síntomas y conviértete
  en un/a mago/a experto/a en actuación precoz. ¡Conocimiento que salva v
 idas! \n\nPúblico: Para toda la familia \n\nTipo de actividad: Carpa
 s (en la calzada) \n\nHorario: 9:30-14:30 
DTSTART;TZID=Europe/Madrid:20260509T093000
DTEND;TZID=Europe/Madrid:20260509T143000
LOCATION:Casanova - Provença
END:VEVENT
BEGIN:VTIMEZONE
TZID:Europe/Madrid
BEGIN:STANDARD
DTSTART:20260101T224021
TZNAME:CET
TZOFFSETTO:+0100
TZOFFSETFROM:+0100
END:STANDARD
BEGIN:DAYLIGHT
DTSTART:20260329T030000
TZNAME:CEST
TZOFFSETTO:+0200
TZOFFSETFROM:+0100
END:DAYLIGHT
BEGIN:STANDARD
DTSTART:20261025T020000
TZNAME:CET
TZOFFSETTO:+0100
TZOFFSETFROM:+0200
END:STANDARD
END:VTIMEZONE
END:VCALENDAR
