BEGIN:VCALENDAR
PRODID:-//eluceo/ical//2.0/EN
VERSION:2.0
CALSCALE:GREGORIAN
BEGIN:VEVENT
UID:eaaa38d112cb450849afe52e9984ae42
DTSTAMP:20260425T203636Z
SUMMARY:Más pequeños\, más valientes: ven a conocerlos
DESCRIPTION:Crea coronas y dibujos con mensajes de ánimo para bebés prema
 turos y sus familias. Descubre materiales reales de la unidad neonatal y c
 ómo estos elementos son vitales para su supervivencia y desarrollo. \n\n
 Público: Para toda la familia \n\nTipo de actividad: Carpas (en la ca
 lzada) \n\nHorario: 9:30-14:30 
DTSTART;TZID=Europe/Madrid:20260509T093000
DTEND;TZID=Europe/Madrid:20260509T143000
LOCATION:Casanova - Provença
END:VEVENT
BEGIN:VTIMEZONE
TZID:Europe/Madrid
BEGIN:STANDARD
DTSTART:20260101T223636
TZNAME:CET
TZOFFSETTO:+0100
TZOFFSETFROM:+0100
END:STANDARD
BEGIN:DAYLIGHT
DTSTART:20260329T030000
TZNAME:CEST
TZOFFSETTO:+0200
TZOFFSETFROM:+0100
END:DAYLIGHT
BEGIN:STANDARD
DTSTART:20261025T020000
TZNAME:CET
TZOFFSETTO:+0100
TZOFFSETFROM:+0200
END:STANDARD
END:VTIMEZONE
END:VCALENDAR
