BEGIN:VCALENDAR
PRODID:-//eluceo/ical//2.0/EN
VERSION:2.0
CALSCALE:GREGORIAN
BEGIN:VEVENT
UID:cb2a158e39d0944f5127123c5a642639
DTSTAMP:20260425T203826Z
SUMMARY:Máster de formación permanente en Paciente Crítico y Emergencias
DESCRIPTION:Descubre la Facultad de Medicina y Ciencias de la Salud: visita
  nuestro estand y conoce los programas propios\, oportunidades educativas 
 y recursos que ofrecemos para estudiantes y futuros profesionales de la sa
 lud. \n\nPúblico: Adultos en general \n\nTipo de actividad: Carpas (
 en la calzada) \n\nHorario: 9:30-14:30 
DTSTART;TZID=Europe/Madrid:20260509T093000
DTEND;TZID=Europe/Madrid:20260509T143000
LOCATION:Casanova - Provença
END:VEVENT
BEGIN:VTIMEZONE
TZID:Europe/Madrid
BEGIN:STANDARD
DTSTART:20260101T223826
TZNAME:CET
TZOFFSETTO:+0100
TZOFFSETFROM:+0100
END:STANDARD
BEGIN:DAYLIGHT
DTSTART:20260329T030000
TZNAME:CEST
TZOFFSETTO:+0200
TZOFFSETFROM:+0100
END:DAYLIGHT
BEGIN:STANDARD
DTSTART:20261025T020000
TZNAME:CET
TZOFFSETTO:+0100
TZOFFSETFROM:+0200
END:STANDARD
END:VTIMEZONE
END:VCALENDAR
