BEGIN:VCALENDAR
PRODID:-//eluceo/ical//2.0/EN
VERSION:2.0
CALSCALE:GREGORIAN
BEGIN:VEVENT
UID:d61718d917acf7c56ded6b1955f6a3f3
DTSTAMP:20260425T204128Z
SUMMARY:Misión Biobanc: el camino de la investigación colaborativa en dia
 betes (Escape room)
DESCRIPTION:Inscripción obligatoria\n\n\n\nInscripciones turno 11:00h\n\n\
 nInscripciones turno 11:45h\n\n\nInscripciones turno 12:30h\n\n\nInscripci
 ones turno 13:15h\n\n\n\nEscape Room científico del Biobanco: resuelve en
 igmas\, sigue protocolos y prepara muestras de diabetes hereditaria. Activ
 idad inmersiva para familias y público general\, con trabajo en equipo y 
 colaboración entre “laboratorios”. \n\nPúblico: Para toda la famil
 ia \n\nTipo de actividad: Carpas (en la Plaza) 
DTSTART;TZID=Europe/Madrid:20260509T110000
DTEND;TZID=Europe/Madrid:20260509T131500
LOCATION:Casanova - Rosselló
END:VEVENT
BEGIN:VTIMEZONE
TZID:Europe/Madrid
BEGIN:STANDARD
DTSTART:20260101T224128
TZNAME:CET
TZOFFSETTO:+0100
TZOFFSETFROM:+0100
END:STANDARD
BEGIN:DAYLIGHT
DTSTART:20260329T030000
TZNAME:CEST
TZOFFSETTO:+0200
TZOFFSETFROM:+0100
END:DAYLIGHT
BEGIN:STANDARD
DTSTART:20261025T020000
TZNAME:CET
TZOFFSETTO:+0100
TZOFFSETFROM:+0200
END:STANDARD
END:VTIMEZONE
END:VCALENDAR
