BEGIN:VCALENDAR
PRODID:-//eluceo/ical//2.0/EN
VERSION:2.0
CALSCALE:GREGORIAN
BEGIN:VEVENT
UID:cefdf5fc504f2b4b5eda83ab44e4f38d
DTSTAMP:20260425T204129Z
SUMMARY:Misterios y tesoros. Visita en el CRAI Biblioteca del Campus Clíni
 c
DESCRIPTION:Inscripción obligatoria\n\n\n\nInscripciones turno 10:30h\n\n\
 nInscripciones turno 11:45h\n\n\nInscripciones turno 13:00h\n\n\n\nVisita 
 guiada y teatralizada al CRAI Biblioteca del Campus Clínic para conocer l
 as instalaciones\, libros antiguos y curiosidades de la medicina catalana 
 de principios del siglo XX. \n\nPúblico: Adultos en general \n\nTipo d
 e actividad: Visitas guiadas \n\nPlazas disponibles: 20 (por turno)\n
 \nDuración: 45' 
DTSTART;TZID=Europe/Madrid:20260509T103000
DTEND;TZID=Europe/Madrid:20260509T130000
LOCATION:Facultad
END:VEVENT
BEGIN:VTIMEZONE
TZID:Europe/Madrid
BEGIN:STANDARD
DTSTART:20260101T224129
TZNAME:CET
TZOFFSETTO:+0100
TZOFFSETFROM:+0100
END:STANDARD
BEGIN:DAYLIGHT
DTSTART:20260329T030000
TZNAME:CEST
TZOFFSETTO:+0200
TZOFFSETFROM:+0100
END:DAYLIGHT
BEGIN:STANDARD
DTSTART:20261025T020000
TZNAME:CET
TZOFFSETTO:+0100
TZOFFSETFROM:+0200
END:STANDARD
END:VTIMEZONE
END:VCALENDAR
