BEGIN:VCALENDAR
PRODID:-//eluceo/ical//2.0/EN
VERSION:2.0
CALSCALE:GREGORIAN
BEGIN:VEVENT
UID:cccf7f120c5a7751022ab4d9382302b5
DTSTAMP:20260425T220036Z
SUMMARY:Modelado de enfermedades hepáticas para el cribado de fármacos
DESCRIPTION:¡Descubre el cribado de fármacos en enfermedad hepática! Los
  adultos aprenderán sobre la investigación con apoyo visual y los niños
  participarán en un taller práctico simulando cultivos celulares para ex
 plorar posibles terapias. \n\nPúblico: Para toda la familia \n\nTipo d
 e actividad: Carpas (en la calzada) \n\nHorario: 9:30-14:30 
DTSTART;TZID=Europe/Madrid:20260509T093000
DTEND;TZID=Europe/Madrid:20260509T143000
LOCATION:Casanova - Còrsega
END:VEVENT
BEGIN:VTIMEZONE
TZID:Europe/Madrid
BEGIN:STANDARD
DTSTART:20260101T000036
TZNAME:CET
TZOFFSETTO:+0100
TZOFFSETFROM:+0100
END:STANDARD
BEGIN:DAYLIGHT
DTSTART:20260329T030000
TZNAME:CEST
TZOFFSETTO:+0200
TZOFFSETFROM:+0100
END:DAYLIGHT
BEGIN:STANDARD
DTSTART:20261025T020000
TZNAME:CET
TZOFFSETTO:+0100
TZOFFSETFROM:+0200
END:STANDARD
END:VTIMEZONE
END:VCALENDAR
