BEGIN:VCALENDAR
PRODID:-//eluceo/ical//2.0/EN
VERSION:2.0
CALSCALE:GREGORIAN
BEGIN:VEVENT
UID:a634a0aa7865b11e71979f748711e875
DTSTAMP:20260425T203717Z
SUMMARY:Momias: historia y ciencia
DESCRIPTION:Inscripción obligatoria\n\n\n\nInscripciones turno 10:30h\n\n\
 nInscripciones turno 11:45h\n\n\nInscripciones turno 13:00h\n\n\n\nRecorri
 do comentado por la exposición para contextualizar los contenidos cientí
 ficos e históricos presentados. \n\nPúblico: Adultos en general\, jóv
 enes y adolescentes \n\nTipo de actividad: Visitas guiadas \n\nPlazas
  disponibles: 20 (por turno)\n\nDuración: 45' 
DTSTART;TZID=Europe/Madrid:20260509T103000
DTEND;TZID=Europe/Madrid:20260509T130000
LOCATION:Facultad
END:VEVENT
BEGIN:VTIMEZONE
TZID:Europe/Madrid
BEGIN:STANDARD
DTSTART:20260101T223717
TZNAME:CET
TZOFFSETTO:+0100
TZOFFSETFROM:+0100
END:STANDARD
BEGIN:DAYLIGHT
DTSTART:20260329T030000
TZNAME:CEST
TZOFFSETTO:+0200
TZOFFSETFROM:+0100
END:DAYLIGHT
BEGIN:STANDARD
DTSTART:20261025T020000
TZNAME:CET
TZOFFSETTO:+0100
TZOFFSETFROM:+0200
END:STANDARD
END:VTIMEZONE
END:VCALENDAR
