BEGIN:VCALENDAR
PRODID:-//eluceo/ical//2.0/EN
VERSION:2.0
CALSCALE:GREGORIAN
BEGIN:VEVENT
UID:928700d25d6df8a866353c7abb4aee84
DTSTAMP:20260425T203420Z
SUMMARY:Monólogo de Oye Sherman
DESCRIPTION:Maria Rovira\, más conocida como “Oye Sherman”\, utiliza s
 u clásico humor ácido para hacer reflexiones personales\, cuestionar la 
 actualidad con cierta ironía y compartir su mirada crítica sobre la soci
 edad catalana actual: desde la herencia de Jordi Pujol hasta las contradic
 ciones del feminismo\, pasando por la ficción catalana y la presión por 
 tener hijos. \n\nPúblico: Para toda la familia \n\nTipo de actividad:
  Escenario deportivo y cultural \n\nHorario: 14:30h 
DTSTART;TZID=Europe/Madrid:20260509T143000
DTEND;TZID=Europe/Madrid:20260509T151500
LOCATION:Casanova - Còrsega
END:VEVENT
BEGIN:VTIMEZONE
TZID:Europe/Madrid
BEGIN:STANDARD
DTSTART:20260101T223420
TZNAME:CET
TZOFFSETTO:+0100
TZOFFSETFROM:+0100
END:STANDARD
BEGIN:DAYLIGHT
DTSTART:20260329T030000
TZNAME:CEST
TZOFFSETTO:+0200
TZOFFSETFROM:+0100
END:DAYLIGHT
BEGIN:STANDARD
DTSTART:20261025T020000
TZNAME:CET
TZOFFSETTO:+0100
TZOFFSETFROM:+0200
END:STANDARD
END:VTIMEZONE
END:VCALENDAR
