BEGIN:VCALENDAR
PRODID:-//eluceo/ical//2.0/EN
VERSION:2.0
CALSCALE:GREGORIAN
BEGIN:VEVENT
UID:b7345c9e2b76f2dc7fa9c8417dd742c5
DTSTAMP:20260425T214742Z
SUMMARY:Órbita Clínic
DESCRIPTION:Una pausa para escuchar y descubrir. Descubre el vídeo podcast
  Órbita Clínic. Podrás recuperar algunos de sus capítulos más destac
 ados y adentrarte en historias de ciencia\, salud e innovación contadas p
 or sus protagonistas. La medicina también se explica… y se escucha.\nPo
 r un Clínic Inteligente\, Próximo\, Sostenible y Pionero.\n\nPúblico: 
 Adultos en general \n\nTipo de actividad: Carpas (en la Plaza) \n\nHor
 ario: 9:30-14:31 
DTSTART;TZID=Europe/Madrid:20260509T093000
DTEND;TZID=Europe/Madrid:20260509T143000
LOCATION:Casanova - Rosselló
END:VEVENT
BEGIN:VTIMEZONE
TZID:Europe/Madrid
BEGIN:STANDARD
DTSTART:20260101T234742
TZNAME:CET
TZOFFSETTO:+0100
TZOFFSETFROM:+0100
END:STANDARD
BEGIN:DAYLIGHT
DTSTART:20260329T030000
TZNAME:CEST
TZOFFSETTO:+0200
TZOFFSETFROM:+0100
END:DAYLIGHT
BEGIN:STANDARD
DTSTART:20261025T020000
TZNAME:CET
TZOFFSETTO:+0100
TZOFFSETFROM:+0200
END:STANDARD
END:VTIMEZONE
END:VCALENDAR
