BEGIN:VCALENDAR
PRODID:-//eluceo/ical//2.0/EN
VERSION:2.0
CALSCALE:GREGORIAN
BEGIN:VEVENT
UID:46fad96a1a8937c03d2ad6295815f711
DTSTAMP:20260425T214941Z
SUMMARY:Pequeños cardiólogos
DESCRIPTION:Toma la presión a los familiares\, escucha los latidos del cor
 azón y aprende jugando la importancia de cuidar la salud cardiovascular e
 n familia. \n\nPúblico: Infancia\, para toda la familia \n\nTipo de a
 ctividad: Carpas (en la calzada) \n\nHorario: 9:30-14:30 
DTSTART;TZID=Europe/Madrid:20260509T093000
DTEND;TZID=Europe/Madrid:20260509T143000
LOCATION:Casanova - Còrsega
END:VEVENT
BEGIN:VTIMEZONE
TZID:Europe/Madrid
BEGIN:STANDARD
DTSTART:20260101T234941
TZNAME:CET
TZOFFSETTO:+0100
TZOFFSETFROM:+0100
END:STANDARD
BEGIN:DAYLIGHT
DTSTART:20260329T030000
TZNAME:CEST
TZOFFSETTO:+0200
TZOFFSETFROM:+0100
END:DAYLIGHT
BEGIN:STANDARD
DTSTART:20261025T020000
TZNAME:CET
TZOFFSETTO:+0100
TZOFFSETFROM:+0200
END:STANDARD
END:VTIMEZONE
END:VCALENDAR
