BEGIN:VCALENDAR
PRODID:-//eluceo/ical//2.0/EN
VERSION:2.0
CALSCALE:GREGORIAN
BEGIN:VEVENT
UID:d0b0e6a944f0a0edcf5d013f9b32c2ea
DTSTAMP:20260425T203742Z
SUMMARY:Piensa como un científico: ¡el método científico en acción!
DESCRIPTION:Actividad en la que los asistentes descubrirán cómo trabajan 
 los científicos a partir de experimentos sorprendentes y situaciones ines
 peradas. Ante fenómenos impactantes\, se formularán hipótesis\, se har
 án predicciones y se interpretarán los resultados para encontrar una exp
 licación. Una experiencia dinámica que muestra\, de forma práctica y di
 vertida\, cómo funciona el método científico. \n\nPúblico: Para toda
  la familia \n\nTipo de actividad: Tallers de salut i ciència \n\nHor
 ario: 9:30h-14:30h 
DTSTART;TZID=Europe/Madrid:20260509T093000
DTEND;TZID=Europe/Madrid:20260509T143000
LOCATION:Casanova - Rosselló
END:VEVENT
BEGIN:VTIMEZONE
TZID:Europe/Madrid
BEGIN:STANDARD
DTSTART:20260101T223742
TZNAME:CET
TZOFFSETTO:+0100
TZOFFSETFROM:+0100
END:STANDARD
BEGIN:DAYLIGHT
DTSTART:20260329T030000
TZNAME:CEST
TZOFFSETTO:+0200
TZOFFSETFROM:+0100
END:DAYLIGHT
BEGIN:STANDARD
DTSTART:20261025T020000
TZNAME:CET
TZOFFSETTO:+0100
TZOFFSETFROM:+0200
END:STANDARD
END:VTIMEZONE
END:VCALENDAR
