BEGIN:VCALENDAR
PRODID:-//eluceo/ical//2.0/EN
VERSION:2.0
CALSCALE:GREGORIAN
BEGIN:VEVENT
UID:39ae92c65162353a2ea420fe248a9fff
DTSTAMP:20260425T203922Z
SUMMARY:Ponte la bata y sé técnico de laboratorio por un rato
DESCRIPTION:Observa líquidos biológicos al microscopio con pantalla y apr
 ende a pipetear con bata\, guantes y gafas. Experiencia práctica y segura
  para descubrir técnicas de laboratorio como un/a científico/a. \n\nPú
 blico: Para toda la familia \n\nTipo de actividad: Carpas (en la calza
 da) \n\nHorario: 9:30-14:30 
DTSTART;TZID=Europe/Madrid:20260509T093000
DTEND;TZID=Europe/Madrid:20260509T143000
LOCATION:Casanova - Provença
END:VEVENT
BEGIN:VTIMEZONE
TZID:Europe/Madrid
BEGIN:STANDARD
DTSTART:20260101T223922
TZNAME:CET
TZOFFSETTO:+0100
TZOFFSETFROM:+0100
END:STANDARD
BEGIN:DAYLIGHT
DTSTART:20260329T030000
TZNAME:CEST
TZOFFSETTO:+0200
TZOFFSETFROM:+0100
END:DAYLIGHT
BEGIN:STANDARD
DTSTART:20261025T020000
TZNAME:CET
TZOFFSETTO:+0100
TZOFFSETFROM:+0200
END:STANDARD
END:VTIMEZONE
END:VCALENDAR
