BEGIN:VCALENDAR
PRODID:-//eluceo/ical//2.0/EN
VERSION:2.0
CALSCALE:GREGORIAN
BEGIN:VEVENT
UID:947821b7a594db0d4a67ff01d73422b6
DTSTAMP:20260425T203924Z
SUMMARY:Postproceso y reconstrucción de imágenes diagnósticas e informac
 ión sobre pruebas diagnósticas
DESCRIPTION:Descubre el mundo del diagnóstico por la imagen: una enfermera
  te explicará las principales pruebas y un técnico mostrará reconstrucc
 iones 3D y posprocesado de imágenes radiológicas como TC y PET-TC. \n\n
 Público: Adultos en general\, jóvenes y adolescentes \n\nTipo de acti
 vidad: Carpas (en la calzada) \n\nHorario: 9:30-14:30 
DTSTART;TZID=Europe/Madrid:20260509T093000
DTEND;TZID=Europe/Madrid:20260509T143000
LOCATION:Casanova - Provença
END:VEVENT
BEGIN:VTIMEZONE
TZID:Europe/Madrid
BEGIN:STANDARD
DTSTART:20260101T223924
TZNAME:CET
TZOFFSETTO:+0100
TZOFFSETFROM:+0100
END:STANDARD
BEGIN:DAYLIGHT
DTSTART:20260329T030000
TZNAME:CEST
TZOFFSETTO:+0200
TZOFFSETFROM:+0100
END:DAYLIGHT
BEGIN:STANDARD
DTSTART:20261025T020000
TZNAME:CET
TZOFFSETTO:+0100
TZOFFSETFROM:+0200
END:STANDARD
END:VTIMEZONE
END:VCALENDAR
