BEGIN:VCALENDAR
PRODID:-//eluceo/ical//2.0/EN
VERSION:2.0
CALSCALE:GREGORIAN
BEGIN:VEVENT
UID:39fcf1503070c22024edb8ad3bcd1a92
DTSTAMP:20260425T204057Z
SUMMARY:Prevención y tratamiento de la diabetes mediante ejercicio físico
DESCRIPTION:Inscripción obligatoria\n\n\n\nInscripciones turno 11:00h\n\n\
 nInscripciones turno 12:30h\n\n\n\nVisita a las instalaciones clínicas de
  IDIBAPS\, en la calle Còrsega\, en el ámbito de diabetes y ejercicio\, 
 para descubrir la investigación y la atención vinculadas a la actividad 
 física y la salud metabólica. \n\nPúblico: Adultos en general \n\nTi
 po de actividad: Visitas guiadas \n\nPlazas disponibles: 15 (por turn
 o)\n\nDuración: 50' 
DTSTART;TZID=Europe/Madrid:20260509T110000
DTEND;TZID=Europe/Madrid:20260509T130000
LOCATION:IDIBAPS-CEK
END:VEVENT
BEGIN:VTIMEZONE
TZID:Europe/Madrid
BEGIN:STANDARD
DTSTART:20260101T224057
TZNAME:CET
TZOFFSETTO:+0100
TZOFFSETFROM:+0100
END:STANDARD
BEGIN:DAYLIGHT
DTSTART:20260329T030000
TZNAME:CEST
TZOFFSETTO:+0200
TZOFFSETFROM:+0100
END:DAYLIGHT
BEGIN:STANDARD
DTSTART:20261025T020000
TZNAME:CET
TZOFFSETTO:+0100
TZOFFSETFROM:+0200
END:STANDARD
END:VTIMEZONE
END:VCALENDAR
