BEGIN:VCALENDAR
PRODID:-//eluceo/ical//2.0/EN
VERSION:2.0
CALSCALE:GREGORIAN
BEGIN:VEVENT
UID:f78bb680c66db9a63a36f137c81b0215
DTSTAMP:20260425T204016Z
SUMMARY:Prototerapia: radiación más precisa para cuidar mejor la salud
DESCRIPTION:Charla divulgativa sobre la protonterapia: qué es\, cómo mejo
 ra la precisión frente a la radioterapia convencional\, cómo protege los
  tejidos sanos\, estado actual de la investigación\, retos tecnológicos 
 y posibles aplicaciones futuras en tratamientos médico \n\nPúblico: Adu
 ltos en general \n\nTipo de actividad: Las voces de la salud\n\nHorario: 
 10:30 
DTSTART;TZID=Europe/Madrid:20260509T103000
DTEND;TZID=Europe/Madrid:20260509T110000
LOCATION:Casanova - Provença
END:VEVENT
BEGIN:VTIMEZONE
TZID:Europe/Madrid
BEGIN:STANDARD
DTSTART:20260101T224016
TZNAME:CET
TZOFFSETTO:+0100
TZOFFSETFROM:+0100
END:STANDARD
BEGIN:DAYLIGHT
DTSTART:20260329T030000
TZNAME:CEST
TZOFFSETTO:+0200
TZOFFSETFROM:+0100
END:DAYLIGHT
BEGIN:STANDARD
DTSTART:20261025T020000
TZNAME:CET
TZOFFSETTO:+0100
TZOFFSETFROM:+0200
END:STANDARD
END:VTIMEZONE
END:VCALENDAR
