BEGIN:VCALENDAR
PRODID:-//eluceo/ical//2.0/EN
VERSION:2.0
CALSCALE:GREGORIAN
BEGIN:VEVENT
UID:bd754bc6a21dfda51c9c674f5ba4b8b0
DTSTAMP:20260425T220233Z
SUMMARY:¿Puedo saber si tengo riesgo de padecer un trastorno mental?
DESCRIPTION:Descubre EPreventPsych: aprende sobre detección precoz de psic
 osis y trastorno bipolar\, participa en cuestionarios interactivos y un mu
 ral participativo\, conoce herramientas digitales de predicción y cómo p
 ueden ayudar a cuidar la salud mental. \n\nPúblico: Adultos en general\
 , jóvenes y adolescentes \n\nTipo de actividad: Carpas (en la calzada)
  \n\nHorario: 9:30-14:30 
DTSTART;TZID=Europe/Madrid:20260509T093000
DTEND;TZID=Europe/Madrid:20260509T143000
LOCATION:Casanova - Còrsega
END:VEVENT
BEGIN:VTIMEZONE
TZID:Europe/Madrid
BEGIN:STANDARD
DTSTART:20260101T000233
TZNAME:CET
TZOFFSETTO:+0100
TZOFFSETFROM:+0100
END:STANDARD
BEGIN:DAYLIGHT
DTSTART:20260329T030000
TZNAME:CEST
TZOFFSETTO:+0200
TZOFFSETFROM:+0100
END:DAYLIGHT
BEGIN:STANDARD
DTSTART:20261025T020000
TZNAME:CET
TZOFFSETTO:+0100
TZOFFSETFROM:+0200
END:STANDARD
END:VTIMEZONE
END:VCALENDAR
