BEGIN:VCALENDAR
PRODID:-//eluceo/ical//2.0/EN
VERSION:2.0
CALSCALE:GREGORIAN
BEGIN:VEVENT
UID:c092cae0c607e731df305904f2e73033
DTSTAMP:20260425T204016Z
SUMMARY:Puertas abiertas en la Unidad de Salud Mental perinatal
DESCRIPTION:Inscripción obligatoria\n\n\n\nInscripciones turno 10:30h\n\n\
 n\nJornada de puertas abiertas en la Unidad de Salud Mental Perinatal del 
 Hospital Clínic\, referente internacional y con el único Hospital de Dí
 a Madre-Bebé del Estado\, para conocer el dispositivo\, su funcionamiento
  y la atención especializada en salud mental posparto. \n\nPúblico: Ad
 ultos en general \n\nTipo de actividad: Visitas guiadas \n\nPlazas di
 sponibles: 20 (por turno)\n\nDuración: 1h 
DTSTART;TZID=Europe/Madrid:20260509T103000
DTEND;TZID=Europe/Madrid:20260509T113000
LOCATION:Maternidad
END:VEVENT
BEGIN:VTIMEZONE
TZID:Europe/Madrid
BEGIN:STANDARD
DTSTART:20260101T224016
TZNAME:CET
TZOFFSETTO:+0100
TZOFFSETFROM:+0100
END:STANDARD
BEGIN:DAYLIGHT
DTSTART:20260329T030000
TZNAME:CEST
TZOFFSETTO:+0200
TZOFFSETFROM:+0100
END:DAYLIGHT
BEGIN:STANDARD
DTSTART:20261025T020000
TZNAME:CET
TZOFFSETTO:+0100
TZOFFSETFROM:+0200
END:STANDARD
END:VTIMEZONE
END:VCALENDAR
