BEGIN:VCALENDAR
PRODID:-//eluceo/ical//2.0/EN
VERSION:2.0
CALSCALE:GREGORIAN
BEGIN:VEVENT
UID:eb1edbf7a4f74ec092e046ed7ac863d0
DTSTAMP:20260425T171327Z
SUMMARY:¿Qué es la neurotecnología? Nuevas herramientas para las patolog
 ías cerebrales
DESCRIPTION:Charla sobre neurotecnología y su potencial en el tratamiento 
 de patologías cerebrales\, centrada en el proyecto europeo META BRAIN y e
 l uso de nanopartículas magnetoeléctricas para la estimulación cerebral
 . \n\nPúblico: Adultos en general \n\nTipo de actividad: Las voces de l
 a salud \n\nHorario: 11:00 
DTSTART;TZID=Europe/Madrid:20260509T110000
DTEND;TZID=Europe/Madrid:20260509T113000
LOCATION:Casanova - Provença
END:VEVENT
BEGIN:VTIMEZONE
TZID:Europe/Madrid
BEGIN:STANDARD
DTSTART:20260101T191327
TZNAME:CET
TZOFFSETTO:+0100
TZOFFSETFROM:+0100
END:STANDARD
BEGIN:DAYLIGHT
DTSTART:20260329T030000
TZNAME:CEST
TZOFFSETTO:+0200
TZOFFSETFROM:+0100
END:DAYLIGHT
BEGIN:STANDARD
DTSTART:20261025T020000
TZNAME:CET
TZOFFSETTO:+0100
TZOFFSETFROM:+0200
END:STANDARD
END:VTIMEZONE
END:VCALENDAR
