BEGIN:VCALENDAR
PRODID:-//eluceo/ical//2.0/EN
VERSION:2.0
CALSCALE:GREGORIAN
BEGIN:VEVENT
UID:ed9e3f96c77651f5680da2b74d5eb6b0
DTSTAMP:20260425T220233Z
SUMMARY:¿Qué es una reacción adversa? Introducción a la farmacovigilanc
 ia y a la seguridad de los medicamentos
DESCRIPTION:Mesa redonda para acercar la farmacovigilancia al público y fo
 mentar un uso seguro de los medicamentos. Se explicarán las reacciones ad
 versas\, el balance beneficio-riesgo\, fuentes fiables de información y c
 ómo notificar posibles efectos. \n\nPúblico: Adultos en general \n\nTi
 po de actividad: Las voces de la salud \n\nHorario: 12:30 
DTSTART;TZID=Europe/Madrid:20260509T123000
DTEND;TZID=Europe/Madrid:20260509T130000
LOCATION:Casanova - Provença
END:VEVENT
BEGIN:VTIMEZONE
TZID:Europe/Madrid
BEGIN:STANDARD
DTSTART:20260101T000233
TZNAME:CET
TZOFFSETTO:+0100
TZOFFSETFROM:+0100
END:STANDARD
BEGIN:DAYLIGHT
DTSTART:20260329T030000
TZNAME:CEST
TZOFFSETTO:+0200
TZOFFSETFROM:+0100
END:DAYLIGHT
BEGIN:STANDARD
DTSTART:20261025T020000
TZNAME:CET
TZOFFSETTO:+0100
TZOFFSETFROM:+0200
END:STANDARD
END:VTIMEZONE
END:VCALENDAR
