BEGIN:VCALENDAR
PRODID:-//eluceo/ical//2.0/EN
VERSION:2.0
CALSCALE:GREGORIAN
BEGIN:VEVENT
UID:49abec5e7a45bc73194fa373d6cbcb72
DTSTAMP:20260425T220005Z
SUMMARY:¿Qué hacemos en la Unidad de Cuidados Intensivos?
DESCRIPTION:Inscripción obligatoria\n\n\nInscripciones turno 10:15h\nInscr
 ipciones turno 11:15h\nInscripciones turno 12:15h\nInscripciones turno 13:
 15h\n\n\nVisita al Laboratorio de Simulación para conocer el funcionamien
 to de la UCI: pacientes\, procedimientos\, equipos y monitorización\, con
  explicaciones de profesionales y turno de preguntas. \n\nPúblico: Para
  toda la familia \n\nTipo de actividad: Visitas guiadas \n\nPlazas di
 sponibles: 10 (por turno)\n\nDuración: 30' 
DTSTART;TZID=Europe/Madrid:20260509T101500
DTEND;TZID=Europe/Madrid:20260509T131500
LOCATION:Facultad
END:VEVENT
BEGIN:VTIMEZONE
TZID:Europe/Madrid
BEGIN:STANDARD
DTSTART:20260101T000005
TZNAME:CET
TZOFFSETTO:+0100
TZOFFSETFROM:+0100
END:STANDARD
BEGIN:DAYLIGHT
DTSTART:20260329T030000
TZNAME:CEST
TZOFFSETTO:+0200
TZOFFSETFROM:+0100
END:DAYLIGHT
BEGIN:STANDARD
DTSTART:20261025T020000
TZNAME:CET
TZOFFSETTO:+0100
TZOFFSETFROM:+0200
END:STANDARD
END:VTIMEZONE
END:VCALENDAR
