BEGIN:VCALENDAR
PRODID:-//eluceo/ical//2.0/EN
VERSION:2.0
CALSCALE:GREGORIAN
BEGIN:VEVENT
UID:78fc5d281facab06da4fb8b828991216
DTSTAMP:20260425T203718Z
SUMMARY:¿Qué sabes sobre la salud mental perinatal?
DESCRIPTION:Un espacio acogedor para gestantes\, puérperas\, familias y pr
 ofesionales. Difusión sobre bienestar emocional\, patologías y tratamien
 tos\, actividades de autocuidado y talleres para fomentar el vínculo con 
 el feto/bebé. Objetivos: sensibilizar\, informar\, reducir el estigma y p
 romover la detección precoz. \n\nPúblico: Para toda la familia \n\nTi
 po de actividad: Carpas (en la calzada) \n\nHorario: 9:30-14:30 
DTSTART;TZID=Europe/Madrid:20260509T093000
DTEND;TZID=Europe/Madrid:20260509T143000
LOCATION:Casanova - Còrsega
END:VEVENT
BEGIN:VTIMEZONE
TZID:Europe/Madrid
BEGIN:STANDARD
DTSTART:20260101T223718
TZNAME:CET
TZOFFSETTO:+0100
TZOFFSETFROM:+0100
END:STANDARD
BEGIN:DAYLIGHT
DTSTART:20260329T030000
TZNAME:CEST
TZOFFSETTO:+0200
TZOFFSETFROM:+0100
END:DAYLIGHT
BEGIN:STANDARD
DTSTART:20261025T020000
TZNAME:CET
TZOFFSETTO:+0100
TZOFFSETFROM:+0200
END:STANDARD
END:VTIMEZONE
END:VCALENDAR
