BEGIN:VCALENDAR
PRODID:-//eluceo/ical//2.0/EN
VERSION:2.0
CALSCALE:GREGORIAN
BEGIN:VEVENT
UID:c7c83b600811cf7edc570f3e7ccedc12
DTSTAMP:20260425T203846Z
SUMMARY:¿Quién hay detrás de una investigación científica?
DESCRIPTION:Taller interactivo que muestra las diferentes profesiones que i
 ntervienen en una investigación biomédica. A través de pequeños experi
 mentos y dinámicas participativas\, los participantes seguirán el recorr
 ido de una muestra por el laboratorio y descubrirán el papel de los técn
 icos\, analistas de datos y médicos en el proceso científico. La activid
 ad finaliza con un reto interactivo para identificar las funciones de cada
  profesional. \n\nPúblico: Para toda la familia \n\nTipo de actividad
 : Tallers de salut i ciència \n\nHorario: 9:30h-14:30h 
DTSTART;TZID=Europe/Madrid:20260509T093000
DTEND;TZID=Europe/Madrid:20260509T143000
LOCATION:Casanova - Rosselló
END:VEVENT
BEGIN:VTIMEZONE
TZID:Europe/Madrid
BEGIN:STANDARD
DTSTART:20260101T223846
TZNAME:CET
TZOFFSETTO:+0100
TZOFFSETFROM:+0100
END:STANDARD
BEGIN:DAYLIGHT
DTSTART:20260329T030000
TZNAME:CEST
TZOFFSETTO:+0200
TZOFFSETFROM:+0100
END:DAYLIGHT
BEGIN:STANDARD
DTSTART:20261025T020000
TZNAME:CET
TZOFFSETTO:+0100
TZOFFSETFROM:+0200
END:STANDARD
END:VTIMEZONE
END:VCALENDAR
