BEGIN:VCALENDAR
PRODID:-//eluceo/ical//2.0/EN
VERSION:2.0
CALSCALE:GREGORIAN
BEGIN:VEVENT
UID:615b6264ee57acbf618137044dcbca76
DTSTAMP:20260425T203825Z
SUMMARY:Reto pañal exprés: practica\, diviértete y gana confianza
DESCRIPTION:Taller divertido para padres: aprende y pon a prueba tu habilid
 ad cambiando pañales en el menor tiempo posible\, asegurando la seguridad
  y comodidad del bebé\, con consejos prácticos y participación activa.
  \n\nPúblico: Para toda la familia \n\nTipo de actividad: Carpas (en
  la calzada) \n\nHorario: 9:30-14:30 
DTSTART;TZID=Europe/Madrid:20260509T093000
DTEND;TZID=Europe/Madrid:20260509T143000
LOCATION:Casanova - Còrsega
END:VEVENT
BEGIN:VTIMEZONE
TZID:Europe/Madrid
BEGIN:STANDARD
DTSTART:20260101T223825
TZNAME:CET
TZOFFSETTO:+0100
TZOFFSETFROM:+0100
END:STANDARD
BEGIN:DAYLIGHT
DTSTART:20260329T030000
TZNAME:CEST
TZOFFSETTO:+0200
TZOFFSETFROM:+0100
END:DAYLIGHT
BEGIN:STANDARD
DTSTART:20261025T020000
TZNAME:CET
TZOFFSETTO:+0100
TZOFFSETFROM:+0200
END:STANDARD
END:VTIMEZONE
END:VCALENDAR
