BEGIN:VCALENDAR
PRODID:-//eluceo/ical//2.0/EN
VERSION:2.0
CALSCALE:GREGORIAN
BEGIN:VEVENT
UID:7674b8e8035cb088e52625ab247bb4f6
DTSTAMP:20260425T203742Z
SUMMARY:Riñones al 100%: ¡cuídalos como a tus Tik Toks!
DESCRIPTION:¿Sabes cuidar tus riñones? Ven a nuestra carpa: aprenderás h
 ábitos saludables\, la relación entre dieta\, presión arterial y diabet
 es\, resolveremos dudas en directo y descubrirás cómo prevenir enfermeda
 des renales antes de que aparezcan síntomas. \n\nPúblico: Para toda la
  familia \n\nTipo de actividad: Carpas (en la calzada) \n\nHorario: 9
 :30-14:30 
DTSTART;TZID=Europe/Madrid:20260509T093000
DTEND;TZID=Europe/Madrid:20260509T143000
LOCATION:Casanova - Còrsega
END:VEVENT
BEGIN:VTIMEZONE
TZID:Europe/Madrid
BEGIN:STANDARD
DTSTART:20260101T223742
TZNAME:CET
TZOFFSETTO:+0100
TZOFFSETFROM:+0100
END:STANDARD
BEGIN:DAYLIGHT
DTSTART:20260329T030000
TZNAME:CEST
TZOFFSETTO:+0200
TZOFFSETFROM:+0100
END:DAYLIGHT
BEGIN:STANDARD
DTSTART:20261025T020000
TZNAME:CET
TZOFFSETTO:+0100
TZOFFSETFROM:+0200
END:STANDARD
END:VTIMEZONE
END:VCALENDAR
