BEGIN:VCALENDAR
PRODID:-//eluceo/ical//2.0/EN
VERSION:2.0
CALSCALE:GREGORIAN
BEGIN:VEVENT
UID:74a5d7b6e581d6921847edcc2cb09073
DTSTAMP:20260425T204016Z
SUMMARY:¿Sabes que se puede heredar la predisposición a tener cáncer?
DESCRIPTION:Descubre el Programa de Cáncer Hereditario: aprende a reconoce
 r señales de alerta\, conoce estudios genéticos familiares\, opciones pr
 eventivas y reproductivas\, y cómo protegerte y proteger a tu familia fre
 nte al cáncer hereditario. \n\nPúblico: Adultos en general \n\nTipo d
 e actividad: Carpas (en la calzada) \n\nHorario: 9:30-14:30 
DTSTART;TZID=Europe/Madrid:20260509T093000
DTEND;TZID=Europe/Madrid:20260509T143000
LOCATION:Casanova - Provença
END:VEVENT
BEGIN:VTIMEZONE
TZID:Europe/Madrid
BEGIN:STANDARD
DTSTART:20260101T224016
TZNAME:CET
TZOFFSETTO:+0100
TZOFFSETFROM:+0100
END:STANDARD
BEGIN:DAYLIGHT
DTSTART:20260329T030000
TZNAME:CEST
TZOFFSETTO:+0200
TZOFFSETFROM:+0100
END:DAYLIGHT
BEGIN:STANDARD
DTSTART:20261025T020000
TZNAME:CET
TZOFFSETTO:+0100
TZOFFSETFROM:+0200
END:STANDARD
END:VTIMEZONE
END:VCALENDAR
