BEGIN:VCALENDAR
PRODID:-//eluceo/ical//2.0/EN
VERSION:2.0
CALSCALE:GREGORIAN
BEGIN:VEVENT
UID:58f7fdf990c0e541e84358ba5d5700db
DTSTAMP:20260425T203604Z
SUMMARY:Salud pulmonar con espirometrías
DESCRIPTION:Actividad con espirometrías e información sobre el asma con m
 otivo del Día Mundial del Asma. Punto informativo con voluntarios formado
 s para realizar las pruebas y hablar sobre salud pulmonar. Organizada por 
 LungHealth4Life en colaboración con ISGlobal. \n\nPúblico: Para toda l
 a familia \n\nTipo de actividad: Carpas (en la calzada) \n\nHorario: 
 9:30-14:30 
DTSTART;TZID=Europe/Madrid:20260509T093000
DTEND;TZID=Europe/Madrid:20260509T143000
LOCATION:Casanova - Provença
END:VEVENT
BEGIN:VTIMEZONE
TZID:Europe/Madrid
BEGIN:STANDARD
DTSTART:20260101T223604
TZNAME:CET
TZOFFSETTO:+0100
TZOFFSETFROM:+0100
END:STANDARD
BEGIN:DAYLIGHT
DTSTART:20260329T030000
TZNAME:CEST
TZOFFSETTO:+0200
TZOFFSETFROM:+0100
END:DAYLIGHT
BEGIN:STANDARD
DTSTART:20261025T020000
TZNAME:CET
TZOFFSETTO:+0100
TZOFFSETFROM:+0200
END:STANDARD
END:VTIMEZONE
END:VCALENDAR
