BEGIN:VCALENDAR
PRODID:-//eluceo/ical//2.0/EN
VERSION:2.0
CALSCALE:GREGORIAN
BEGIN:VEVENT
UID:aefaea2982602d2d037cd8b917255791
DTSTAMP:20260425T203418Z
SUMMARY:Salud sexual: ¡hablemos de ello!
DESCRIPTION:Charla sobre salud sexual y reproductiva: ¡infórmate y proté
 gete! Prevenimos embarazos e ITS\, fomentamos el respeto y el consentimien
 to\, ofrecemos educación emocional\, recursos para jóvenes y familias\, 
 y un espacio de confianza para resolver dudas. \n\nPúblico: Adultos en g
 eneral\, jóvenes y adolescentes \n\nTipo de actividad: Las voces de la s
 alud \n\nHorario: 13:00 
DTSTART;TZID=Europe/Madrid:20260509T130000
DTEND;TZID=Europe/Madrid:20260509T133000
LOCATION:Casanova - Provença
END:VEVENT
BEGIN:VTIMEZONE
TZID:Europe/Madrid
BEGIN:STANDARD
DTSTART:20260101T223418
TZNAME:CET
TZOFFSETTO:+0100
TZOFFSETFROM:+0100
END:STANDARD
BEGIN:DAYLIGHT
DTSTART:20260329T030000
TZNAME:CEST
TZOFFSETTO:+0200
TZOFFSETFROM:+0100
END:DAYLIGHT
BEGIN:STANDARD
DTSTART:20261025T020000
TZNAME:CET
TZOFFSETTO:+0100
TZOFFSETFROM:+0200
END:STANDARD
END:VTIMEZONE
END:VCALENDAR
