BEGIN:VCALENDAR
PRODID:-//eluceo/ical//2.0/EN
VERSION:2.0
CALSCALE:GREGORIAN
BEGIN:VEVENT
UID:4bc4c04ea9e80f7f993c9254bbf570f4
DTSTAMP:20260424T123000Z
SUMMARY:Sesión clínica Observatorio Experiencia de paciente | abril 2026
DESCRIPTION:La sesión clínica de abril irá sobre:\n\n\n\n\nEl tiempo des
 de la perspectiva de paciente. A cargo de Joan Escarrabill\, consultor em
 érito del Observatorio de Experiencia del Paciente del Hospital Clínic\n
 \n\n\n\nSigue la sesión aquí
DTSTART;TZID=Europe/Madrid:20260428T150000
DTEND;TZID=Europe/Madrid:20260428T160000
LOCATION:
END:VEVENT
BEGIN:VTIMEZONE
TZID:Europe/Madrid
BEGIN:STANDARD
DTSTART:20260101T143000
TZNAME:CET
TZOFFSETTO:+0100
TZOFFSETFROM:+0100
END:STANDARD
BEGIN:DAYLIGHT
DTSTART:20260329T030000
TZNAME:CEST
TZOFFSETTO:+0200
TZOFFSETFROM:+0100
END:DAYLIGHT
BEGIN:STANDARD
DTSTART:20261025T020000
TZNAME:CET
TZOFFSETTO:+0100
TZOFFSETFROM:+0200
END:STANDARD
END:VTIMEZONE
END:VCALENDAR
