BEGIN:VCALENDAR
PRODID:-//eluceo/ical//2.0/EN
VERSION:2.0
CALSCALE:GREGORIAN
BEGIN:VEVENT
UID:27dd55da8f6d50a31cf710aa9d05884c
DTSTAMP:20260425T203604Z
SUMMARY:Sesión de pilates con Pascale Bony
DESCRIPTION:Inscripción obligatoria\n\n\n\nInscripciones turno 12:30h\n\n\
 n\nSesión de pilates guiada por Pascale Bony\, centrada en el trabajo de 
 la postura\, la fuerza y la conciencia corporal. A través de ejercicios s
 uaves y controlados\, los participantes aprenderán a mejorar la flexibili
 dad\, el equilibrio y la coordinación\, al mismo tiempo que favorecen el 
 bienestar físico y la prevención de molestias musculares. Una actividad 
 accesible para todos los niveles que invita a mover el cuerpo con atenció
 n y control.\n\nPúblico: Adultos\n\nTipo de actividad: Espacio Bienest
 ar 
DTSTART;TZID=Europe/Madrid:20260509T123000
DTEND;TZID=Europe/Madrid:20260509T133000
LOCATION:Casanova - Provença
END:VEVENT
BEGIN:VTIMEZONE
TZID:Europe/Madrid
BEGIN:STANDARD
DTSTART:20260101T223604
TZNAME:CET
TZOFFSETTO:+0100
TZOFFSETFROM:+0100
END:STANDARD
BEGIN:DAYLIGHT
DTSTART:20260329T030000
TZNAME:CEST
TZOFFSETTO:+0200
TZOFFSETFROM:+0100
END:DAYLIGHT
BEGIN:STANDARD
DTSTART:20261025T020000
TZNAME:CET
TZOFFSETTO:+0100
TZOFFSETFROM:+0200
END:STANDARD
END:VTIMEZONE
END:VCALENDAR
