BEGIN:VCALENDAR
PRODID:-//eluceo/ical//2.0/EN
VERSION:2.0
CALSCALE:GREGORIAN
BEGIN:VEVENT
UID:460c20cfdb250df41370ae3c826b30d8
DTSTAMP:20260425T202939Z
SUMMARY:Sesión de Tai Chi
DESCRIPTION:Inscripción obligatoria\n\n\n\nInscripciones turno 11:30h\n\n\
 n\nSesión de tai chi abierta al público para promover el bienestar físi
 co y mental\, mediante movimientos suaves\, respiración consciente y rela
 jación\, adaptada a todos los niveles. \n\nPúblico: Adultos en general
  \n\nTipo de actividad: Espacio Bienestar 
DTSTART;TZID=Europe/Madrid:20260509T113000
DTEND;TZID=Europe/Madrid:20260509T123000
LOCATION:Casanova - Provença
END:VEVENT
BEGIN:VTIMEZONE
TZID:Europe/Madrid
BEGIN:STANDARD
DTSTART:20260101T222939
TZNAME:CET
TZOFFSETTO:+0100
TZOFFSETFROM:+0100
END:STANDARD
BEGIN:DAYLIGHT
DTSTART:20260329T030000
TZNAME:CEST
TZOFFSETTO:+0200
TZOFFSETFROM:+0100
END:DAYLIGHT
BEGIN:STANDARD
DTSTART:20261025T020000
TZNAME:CET
TZOFFSETTO:+0100
TZOFFSETFROM:+0200
END:STANDARD
END:VTIMEZONE
END:VCALENDAR
