BEGIN:VCALENDAR
PRODID:-//eluceo/ical//2.0/EN
VERSION:2.0
CALSCALE:GREGORIAN
BEGIN:VEVENT
UID:068e0c34da30c924c171e0647ac44a3d
DTSTAMP:20260425T203614Z
SUMMARY:Sesión de yoga con Pascale Bony
DESCRIPTION:Inscripción obligatoria\n\n\n\nInscripciones turno 13:30h\n\n\
 n\nSesión de yoga con Pascale Bony para conectar cuerpo y mente a través
  del movimiento\, la respiración y la relajación. Durante la práctica\,
  los participantes realizarán diferentes posturas y ejercicios de respira
 ción que ayudan a mejorar la flexibilidad\, reducir el estrés y potencia
 r el bienestar general. Una actividad abierta a todos los niveles para des
 cubrir los beneficios del yoga y dedicar un momento al cuidado personal.\n
 \nPúblico: Adultos\n\nTipo de actividad: Espacio Bienestar 
DTSTART;TZID=Europe/Madrid:20260509T133000
DTEND;TZID=Europe/Madrid:20260509T143000
LOCATION:Casanova - Provença
END:VEVENT
BEGIN:VTIMEZONE
TZID:Europe/Madrid
BEGIN:STANDARD
DTSTART:20260101T223614
TZNAME:CET
TZOFFSETTO:+0100
TZOFFSETFROM:+0100
END:STANDARD
BEGIN:DAYLIGHT
DTSTART:20260329T030000
TZNAME:CEST
TZOFFSETTO:+0200
TZOFFSETFROM:+0100
END:DAYLIGHT
BEGIN:STANDARD
DTSTART:20261025T020000
TZNAME:CET
TZOFFSETTO:+0100
TZOFFSETFROM:+0200
END:STANDARD
END:VTIMEZONE
END:VCALENDAR
