BEGIN:VCALENDAR
PRODID:-//eluceo/ical//2.0/EN
VERSION:2.0
CALSCALE:GREGORIAN
BEGIN:VEVENT
UID:ce2d8b6744e38ff592c21ca6b06a4a75
DTSTAMP:20260425T215542Z
SUMMARY:Sesión  XT29 con Jose Expósito
DESCRIPTION:Inscripción obligatoria\n\n\n\nInscripciones turno 10:45h\n\n\
 n\nSesión práctica para descubrir el método XT29 con Jose Expósito\, u
 na propuesta que combina movimiento\, conciencia corporal y respiración p
 ara mejorar el bienestar físico y mental. Durante la actividad\, los part
 icipantes podrán conocer los principios de este método y experimentar al
 gunos de sus ejercicios a través de una dinámica guiada y accesible para
  todos los públicos. Una oportunidad para explorar nuevas formas de cuida
 r el cuerpo\, reducir el estrés e incorporar hábitos saludables al día 
 a día.\n\nPúblico: Adultos en general\n\nTipo de actividad: Espacio Bien
 estar
DTSTART;TZID=Europe/Madrid:20260509T104500
DTEND;TZID=Europe/Madrid:20260509T111500
LOCATION:Casanova - Provença
END:VEVENT
BEGIN:VTIMEZONE
TZID:Europe/Madrid
BEGIN:STANDARD
DTSTART:20260101T235542
TZNAME:CET
TZOFFSETTO:+0100
TZOFFSETFROM:+0100
END:STANDARD
BEGIN:DAYLIGHT
DTSTART:20260329T030000
TZNAME:CEST
TZOFFSETTO:+0200
TZOFFSETFROM:+0100
END:DAYLIGHT
BEGIN:STANDARD
DTSTART:20261025T020000
TZNAME:CET
TZOFFSETTO:+0100
TZOFFSETFROM:+0200
END:STANDARD
END:VTIMEZONE
END:VCALENDAR
