BEGIN:VCALENDAR
PRODID:-//eluceo/ical//2.0/EN
VERSION:2.0
CALSCALE:GREGORIAN
BEGIN:VEVENT
UID:78bbffcc72e421d265cf34dfb1712fbc
DTSTAMP:20260425T203826Z
SUMMARY:Taller de chikung para la fibromialgia
DESCRIPTION:Taller de Chi Kung impartido por médico pediatra y docente con
  amplia experiencia. Se explicará qué es el Chi Kung y sus beneficios pa
 ra la salud\, con una práctica suave de estiramientos\, respiración y me
 ditación\, dirigida a personas con fibromialgia y/o fatiga crónica. \n\
 nPúblico: Adultos en general (grupo cerrado)\n\nTipo de actividad: Esp
 acio Bienestar \n\nHorario: 9:30 
DTSTART;TZID=Europe/Madrid:20260509T093000
DTEND;TZID=Europe/Madrid:20260509T103000
LOCATION:Casanova - Provença
END:VEVENT
BEGIN:VTIMEZONE
TZID:Europe/Madrid
BEGIN:STANDARD
DTSTART:20260101T223826
TZNAME:CET
TZOFFSETTO:+0100
TZOFFSETFROM:+0100
END:STANDARD
BEGIN:DAYLIGHT
DTSTART:20260329T030000
TZNAME:CEST
TZOFFSETTO:+0200
TZOFFSETFROM:+0100
END:DAYLIGHT
BEGIN:STANDARD
DTSTART:20261025T020000
TZNAME:CET
TZOFFSETTO:+0100
TZOFFSETFROM:+0200
END:STANDARD
END:VTIMEZONE
END:VCALENDAR
