BEGIN:VCALENDAR
PRODID:-//eluceo/ical//2.0/EN
VERSION:2.0
CALSCALE:GREGORIAN
BEGIN:VEVENT
UID:1e34ce03fd4f50c53bd91ad529b3a165
DTSTAMP:20260425T203333Z
SUMMARY:Taller de construcción LEGO
DESCRIPTION:Ven en familia a construir con LEGO ya dar forma a nuevas ideas
  de una forma divertida y participativa. Podrás participar en uno de esto
 s dos talleres:\n\n1. Construimos el Nuevo Clínic. Imagina cómo será el
  hospital del futuro y ayúdanos a darle forma pieza a pieza. Construiremo
 s espacios como el helipuerto\, el laboratorio\, el quirófano o el aula\,
  pensando cómo pueden ayudar a cuidar mejor a las personas.\n\n2. Nutri-B
 ot. Construye tu propio Nutri-Bot\, un robot que nos ayudará a entender\,
  de forma visual y creativa\, las proporciones de una alimentación equili
 brada.\n\nDuración de cada taller: 30 minutos\nAforo: 25 unidades familia
 res por tanda\nHorario: 9.30 ha 14.30\nPúblico: familiar\n\n
DTSTART;TZID=Europe/Madrid:20260509T093000
DTEND;TZID=Europe/Madrid:20260509T143000
LOCATION:Casanova - Rosselló
END:VEVENT
BEGIN:VTIMEZONE
TZID:Europe/Madrid
BEGIN:STANDARD
DTSTART:20260101T223333
TZNAME:CET
TZOFFSETTO:+0100
TZOFFSETFROM:+0100
END:STANDARD
BEGIN:DAYLIGHT
DTSTART:20260329T030000
TZNAME:CEST
TZOFFSETTO:+0200
TZOFFSETFROM:+0100
END:DAYLIGHT
BEGIN:STANDARD
DTSTART:20261025T020000
TZNAME:CET
TZOFFSETTO:+0100
TZOFFSETFROM:+0200
END:STANDARD
END:VTIMEZONE
END:VCALENDAR
