BEGIN:VCALENDAR
PRODID:-//eluceo/ical//2.0/EN
VERSION:2.0
CALSCALE:GREGORIAN
BEGIN:VEVENT
UID:bdb24cbb3873ffcc6c7efdce48651ff4
DTSTAMP:20260425T203826Z
SUMMARY:Taller de RCP básica y uso de desfibriladores automáticos DEA
DESCRIPTION:¡Ven y participa! Taller de RCP y DEA\, descubre cómo utiliza
 r los servicios de urgencias\, conoce las sedes del Hospital Clínic y los
  niveles de atención\, y aprende con actividades prácticas pensadas para
  ti. \n\nPúblico: Adultos en general\, jóvenes y adolescentes \n\nTip
 o de actividad: Carpas (en la Plaza) \n\nHorario: 9:30-14:30 
DTSTART;TZID=Europe/Madrid:20260509T093000
DTEND;TZID=Europe/Madrid:20260509T143000
LOCATION:Casanova - Còrsega
END:VEVENT
BEGIN:VTIMEZONE
TZID:Europe/Madrid
BEGIN:STANDARD
DTSTART:20260101T223826
TZNAME:CET
TZOFFSETTO:+0100
TZOFFSETFROM:+0100
END:STANDARD
BEGIN:DAYLIGHT
DTSTART:20260329T030000
TZNAME:CEST
TZOFFSETTO:+0200
TZOFFSETFROM:+0100
END:DAYLIGHT
BEGIN:STANDARD
DTSTART:20261025T020000
TZNAME:CET
TZOFFSETTO:+0100
TZOFFSETFROM:+0200
END:STANDARD
END:VTIMEZONE
END:VCALENDAR
