BEGIN:VCALENDAR
PRODID:-//eluceo/ical//2.0/EN
VERSION:2.0
CALSCALE:GREGORIAN
BEGIN:VEVENT
UID:2cb63b125b34ce52892f6162f8dd4495
DTSTAMP:20260425T203634Z
SUMMARY:¿Te preocupan los problemas de memoria?
DESCRIPTION:Descubre la Unidad de Alzheimer: prueba cribados de memoria\, a
 prende sobre factores de riesgo y diagnóstico\, habla con el equipo y par
 ticipa en estudios de investigación para mejorar la detección precoz y l
 a salud cognitiva. \n\nPúblico: Adultos en general \n\nTipo de activi
 dad: Carpas (en la calzada) \n\nHorario: 9:30-14:30 
DTSTART;TZID=Europe/Madrid:20260509T093000
DTEND;TZID=Europe/Madrid:20260509T143000
LOCATION:Casanova - Provença
END:VEVENT
BEGIN:VTIMEZONE
TZID:Europe/Madrid
BEGIN:STANDARD
DTSTART:20260101T223634
TZNAME:CET
TZOFFSETTO:+0100
TZOFFSETFROM:+0100
END:STANDARD
BEGIN:DAYLIGHT
DTSTART:20260329T030000
TZNAME:CEST
TZOFFSETTO:+0200
TZOFFSETFROM:+0100
END:DAYLIGHT
BEGIN:STANDARD
DTSTART:20261025T020000
TZNAME:CET
TZOFFSETTO:+0100
TZOFFSETFROM:+0200
END:STANDARD
END:VTIMEZONE
END:VCALENDAR
