BEGIN:VCALENDAR
PRODID:-//eluceo/ical//2.0/EN
VERSION:2.0
CALSCALE:GREGORIAN
BEGIN:VEVENT
UID:4e7400127b2ead03bd9f269dbfcdecc5
DTSTAMP:20260425T203931Z
SUMMARY:Teatro: El enigma de la parada cardíaca corazón y cerebro la clav
 e de la vida
DESCRIPTION:Ven a “El Cor del Museu”: aprende sobre paradas cardíacas 
 a través de una explicación teatralizada\, testimonios reales y práctic
 as con maniquí y DEA. Descubre cómo la reanimación precoz puede salvar 
 vidas y participa en la investigación. \n\nPúblico: Para toda la famil
 ia \n\nTipo de actividad: Carpas (en la calzada) \n\nHorario: 9:30-14
 :30 
DTSTART;TZID=Europe/Madrid:20260509T093000
DTEND;TZID=Europe/Madrid:20260509T143000
LOCATION:Casanova - Provença
END:VEVENT
BEGIN:VTIMEZONE
TZID:Europe/Madrid
BEGIN:STANDARD
DTSTART:20260101T223931
TZNAME:CET
TZOFFSETTO:+0100
TZOFFSETFROM:+0100
END:STANDARD
BEGIN:DAYLIGHT
DTSTART:20260329T030000
TZNAME:CEST
TZOFFSETTO:+0200
TZOFFSETFROM:+0100
END:DAYLIGHT
BEGIN:STANDARD
DTSTART:20261025T020000
TZNAME:CET
TZOFFSETTO:+0100
TZOFFSETFROM:+0200
END:STANDARD
END:VTIMEZONE
END:VCALENDAR
