BEGIN:VCALENDAR
PRODID:-//eluceo/ical//2.0/EN
VERSION:2.0
CALSCALE:GREGORIAN
BEGIN:VEVENT
UID:6efa0e70e2bdb11f71c460fb56bb3b47
DTSTAMP:20260425T215515Z
SUMMARY:¿Tiene género la salud?
DESCRIPTION:A través de cuatro obras de arte de autores catalanes expuesta
 s en el Museo Nacional de Arte de Cataluña (MNAC)\, invitaremos a reflexi
 onar sobre la relación entre roles de género\, salud y enfermedad. Las p
 inturas nos permitirán explorar cómo la sociedad y la ciencia han constr
 uido imaginarios sobre el cuerpo de la mujer y cómo estos imaginarios han
  influido en la salud y la enfermedad. También habrá actividades para ni
 ños con espacio para dibujar.\n\nPúblico: Adultos en general \n\nTipo 
 de actividad: Carpas (en la Plaza) \n\nHorario: 9:30-14:30 
DTSTART;TZID=Europe/Madrid:20260509T093000
DTEND;TZID=Europe/Madrid:20260509T143000
LOCATION:Casanova - Rosselló
END:VEVENT
BEGIN:VTIMEZONE
TZID:Europe/Madrid
BEGIN:STANDARD
DTSTART:20260101T235515
TZNAME:CET
TZOFFSETTO:+0100
TZOFFSETFROM:+0100
END:STANDARD
BEGIN:DAYLIGHT
DTSTART:20260329T030000
TZNAME:CEST
TZOFFSETTO:+0200
TZOFFSETFROM:+0100
END:DAYLIGHT
BEGIN:STANDARD
DTSTART:20261025T020000
TZNAME:CET
TZOFFSETTO:+0100
TZOFFSETFROM:+0200
END:STANDARD
END:VTIMEZONE
END:VCALENDAR
